BEGIN:VCALENDAR
VERSION:2.0
PRODID:-//wp-events-plugin.com//6.4.5.1//EN
BEGIN:VEVENT
UID:365@goslar-queer.de
DTSTART;TZID=Europe/Berlin:20260421T160000
DTEND;TZID=Europe/Berlin:20260421T180000
DTSTAMP:20260421T092445Z
URL:https://goslar-queer.de/veranstaltungen/ausstellungseroeffnung-gefaehr
 det-leben
SUMMARY:Ausstellungseröffnung "gefährdet leben"
DESCRIPTION:Weitere Informationen zur Ausstellungseröffnung findest du hie
 r: https://goslar-queer.de/ausstellungseroeffnung-gefaehrdet-leben
CATEGORIES:Veranstaltung
LOCATION:Kulturmarktplatz\, Raum Beroun\, Am Museumsufer 2\, Goslar\, 38640
 \, Deutschland
X-APPLE-STRUCTURED-LOCATION;VALUE=URI;X-ADDRESS=Am Museumsufer 2\, Goslar\,
  38640\, Deutschland;X-APPLE-RADIUS=100;X-TITLE=Kulturmarktplatz\, Raum Be
 roun:geo:0,0
END:VEVENT
BEGIN:VTIMEZONE
TZID:Europe/Berlin
X-LIC-LOCATION:Europe/Berlin
BEGIN:DAYLIGHT
DTSTART:20260329T030000
TZOFFSETFROM:+0100
TZOFFSETTO:+0200
TZNAME:CEST
END:DAYLIGHT
END:VTIMEZONE
END:VCALENDAR